BEGIN:VCALENDAR
VERSION:2.0
PRODID:-//Fika Cup - ECPv6.15.20//NONSGML v1.0//EN
CALSCALE:GREGORIAN
METHOD:PUBLISH
X-ORIGINAL-URL:https://enjoyfika.com
X-WR-CALDESC:Events for Fika Cup
REFRESH-INTERVAL;VALUE=DURATION:PT1H
X-Robots-Tag:noindex
X-PUBLISHED-TTL:PT1H
BEGIN:VTIMEZONE
TZID:America/Chicago
BEGIN:DAYLIGHT
TZOFFSETFROM:-0600
TZOFFSETTO:-0500
TZNAME:CDT
DTSTART:20240310T080000
END:DAYLIGHT
BEGIN:STANDARD
TZOFFSETFROM:-0500
TZOFFSETTO:-0600
TZNAME:CST
DTSTART:20241103T070000
END:STANDARD
BEGIN:DAYLIGHT
TZOFFSETFROM:-0600
TZOFFSETTO:-0500
TZNAME:CDT
DTSTART:20250309T080000
END:DAYLIGHT
BEGIN:STANDARD
TZOFFSETFROM:-0500
TZOFFSETTO:-0600
TZNAME:CST
DTSTART:20251102T070000
END:STANDARD
BEGIN:DAYLIGHT
TZOFFSETFROM:-0600
TZOFFSETTO:-0500
TZNAME:CDT
DTSTART:20260308T080000
END:DAYLIGHT
BEGIN:STANDARD
TZOFFSETFROM:-0500
TZOFFSETTO:-0600
TZNAME:CST
DTSTART:20261101T070000
END:STANDARD
END:VTIMEZONE
BEGIN:VEVENT
DTSTART;TZID=America/Chicago:20251029T073000
DTEND;TZID=America/Chicago:20251029T090000
DTSTAMP:20260425T221247
CREATED:20251015T225803Z
LAST-MODIFIED:20251015T225956Z
UID:2032-1761723000-1761728400@enjoyfika.com
SUMMARY:MUHC Nurses
DESCRIPTION:
URL:https://enjoyfika.com/event/muhc-nurses/2025/10/15/
LOCATION:Missouri
END:VEVENT
BEGIN:VEVENT
DTSTART;TZID=America/Chicago:20251029T093000
DTEND;TZID=America/Chicago:20251029T110000
DTSTAMP:20260425T221247
CREATED:20250912T213802Z
LAST-MODIFIED:20250912T213802Z
UID:1942-1761730200-1761735600@enjoyfika.com
SUMMARY:IDEXX
DESCRIPTION:
URL:https://enjoyfika.com/event/idexx-7/2025/09/12/
LOCATION:IDEXX\, 4011 Discovery Drive\, Columbia\, MO\, 65201\, United States
END:VEVENT
END:VCALENDAR