BEGIN:VCALENDAR
VERSION:2.0
PRODID:-//Fika Cup - ECPv6.15.20//NONSGML v1.0//EN
CALSCALE:GREGORIAN
METHOD:PUBLISH
X-WR-CALNAME:Fika Cup
X-ORIGINAL-URL:https://enjoyfika.com
X-WR-CALDESC:Events for Fika Cup
REFRESH-INTERVAL;VALUE=DURATION:PT1H
X-Robots-Tag:noindex
X-PUBLISHED-TTL:PT1H
BEGIN:VTIMEZONE
TZID:America/Chicago
BEGIN:DAYLIGHT
TZOFFSETFROM:-0600
TZOFFSETTO:-0500
TZNAME:CDT
DTSTART:20240310T080000
END:DAYLIGHT
BEGIN:STANDARD
TZOFFSETFROM:-0500
TZOFFSETTO:-0600
TZNAME:CST
DTSTART:20241103T070000
END:STANDARD
BEGIN:DAYLIGHT
TZOFFSETFROM:-0600
TZOFFSETTO:-0500
TZNAME:CDT
DTSTART:20250309T080000
END:DAYLIGHT
BEGIN:STANDARD
TZOFFSETFROM:-0500
TZOFFSETTO:-0600
TZNAME:CST
DTSTART:20251102T070000
END:STANDARD
BEGIN:DAYLIGHT
TZOFFSETFROM:-0600
TZOFFSETTO:-0500
TZNAME:CDT
DTSTART:20260308T080000
END:DAYLIGHT
BEGIN:STANDARD
TZOFFSETFROM:-0500
TZOFFSETTO:-0600
TZNAME:CST
DTSTART:20261101T070000
END:STANDARD
END:VTIMEZONE
BEGIN:VEVENT
DTSTART;TZID=America/Chicago:20251204T083000
DTEND;TZID=America/Chicago:20251204T103000
DTSTAMP:20260425T205442
CREATED:20251006T021416Z
LAST-MODIFIED:20251006T021416Z
UID:2005-1764837000-1764844200@enjoyfika.com
SUMMARY:Veterans United Papa
DESCRIPTION:
URL:https://enjoyfika.com/event/veterans-united-papa-30/2025/10/05/
LOCATION:Veterans United Papa
END:VEVENT
BEGIN:VEVENT
DTSTART;TZID=America/Chicago:20251204T173000
DTEND;TZID=America/Chicago:20251204T193000
DTSTAMP:20260425T205442
CREATED:20250826T213812Z
LAST-MODIFIED:20250826T213812Z
UID:1899-1764869400-1764876600@enjoyfika.com
SUMMARY:Shelter Gardens Winter Wonderland
DESCRIPTION:
URL:https://enjoyfika.com/event/shelter-gardens-winter-wonderland-2/2025/08/26/
LOCATION:Shelter Gardens\, Columbia\, MO\, 65203
END:VEVENT
END:VCALENDAR