BEGIN:VCALENDAR
VERSION:2.0
PRODID:-//Fika Cup - ECPv6.15.20//NONSGML v1.0//EN
CALSCALE:GREGORIAN
METHOD:PUBLISH
X-WR-CALNAME:Fika Cup
X-ORIGINAL-URL:https://enjoyfika.com
X-WR-CALDESC:Events for Fika Cup
REFRESH-INTERVAL;VALUE=DURATION:PT1H
X-Robots-Tag:noindex
X-PUBLISHED-TTL:PT1H
BEGIN:VTIMEZONE
TZID:America/Chicago
BEGIN:DAYLIGHT
TZOFFSETFROM:-0600
TZOFFSETTO:-0500
TZNAME:CDT
DTSTART:20240310T080000
END:DAYLIGHT
BEGIN:STANDARD
TZOFFSETFROM:-0500
TZOFFSETTO:-0600
TZNAME:CST
DTSTART:20241103T070000
END:STANDARD
BEGIN:DAYLIGHT
TZOFFSETFROM:-0600
TZOFFSETTO:-0500
TZNAME:CDT
DTSTART:20250309T080000
END:DAYLIGHT
BEGIN:STANDARD
TZOFFSETFROM:-0500
TZOFFSETTO:-0600
TZNAME:CST
DTSTART:20251102T070000
END:STANDARD
BEGIN:DAYLIGHT
TZOFFSETFROM:-0600
TZOFFSETTO:-0500
TZNAME:CDT
DTSTART:20260308T080000
END:DAYLIGHT
BEGIN:STANDARD
TZOFFSETFROM:-0500
TZOFFSETTO:-0600
TZNAME:CST
DTSTART:20261101T070000
END:STANDARD
END:VTIMEZONE
BEGIN:VEVENT
DTSTART;TZID=America/Chicago:20251205T083000
DTEND;TZID=America/Chicago:20251205T103000
DTSTAMP:20260425T205442
CREATED:20251006T021458Z
LAST-MODIFIED:20251202T022531Z
UID:2007-1764923400-1764930600@enjoyfika.com
SUMMARY:Veterans United Jake
DESCRIPTION:
URL:https://enjoyfika.com/event/veterans-united-jake-34/2025/10/05/
LOCATION:Veterans United Jake\, Columbia\, MO\, 65203\, United States
END:VEVENT
BEGIN:VEVENT
DTSTART;TZID=America/Chicago:20251205T173000
DTEND;TZID=America/Chicago:20251205T193000
DTSTAMP:20260425T205442
CREATED:20250826T213911Z
LAST-MODIFIED:20250826T213911Z
UID:1901-1764955800-1764963000@enjoyfika.com
SUMMARY:Winter Wonderland at Shelter Gardens
DESCRIPTION:
URL:https://enjoyfika.com/event/winter-wonderland-at-shelter-gardens-10/2025/08/26/
LOCATION:Shelter Gardens\, Columbia\, MO\, 65203
END:VEVENT
END:VCALENDAR