BEGIN:VCALENDAR
VERSION:2.0
PRODID:-//Fika Cup - ECPv6.15.20//NONSGML v1.0//EN
CALSCALE:GREGORIAN
METHOD:PUBLISH
X-ORIGINAL-URL:https://enjoyfika.com
X-WR-CALDESC:Events for Fika Cup
REFRESH-INTERVAL;VALUE=DURATION:PT1H
X-Robots-Tag:noindex
X-PUBLISHED-TTL:PT1H
BEGIN:VTIMEZONE
TZID:America/Chicago
BEGIN:DAYLIGHT
TZOFFSETFROM:-0600
TZOFFSETTO:-0500
TZNAME:CDT
DTSTART:20250309T080000
END:DAYLIGHT
BEGIN:STANDARD
TZOFFSETFROM:-0500
TZOFFSETTO:-0600
TZNAME:CST
DTSTART:20251102T070000
END:STANDARD
BEGIN:DAYLIGHT
TZOFFSETFROM:-0600
TZOFFSETTO:-0500
TZNAME:CDT
DTSTART:20260308T080000
END:DAYLIGHT
BEGIN:STANDARD
TZOFFSETFROM:-0500
TZOFFSETTO:-0600
TZNAME:CST
DTSTART:20261101T070000
END:STANDARD
BEGIN:DAYLIGHT
TZOFFSETFROM:-0600
TZOFFSETTO:-0500
TZNAME:CDT
DTSTART:20270314T080000
END:DAYLIGHT
BEGIN:STANDARD
TZOFFSETFROM:-0500
TZOFFSETTO:-0600
TZNAME:CST
DTSTART:20271107T070000
END:STANDARD
END:VTIMEZONE
BEGIN:VEVENT
DTSTART;TZID=America/Chicago:20260408T080000
DTEND;TZID=America/Chicago:20260408T100000
DTSTAMP:20260425T180823
CREATED:20260318T211225Z
LAST-MODIFIED:20260318T211225Z
UID:2307-1775635200-1775642400@enjoyfika.com
SUMMARY:CenterPointe of Columbia
DESCRIPTION:
URL:https://enjoyfika.com/event/centerpointe-of-columbia-14/2026/03/18/
LOCATION:CenterPointe of Columbia\, 1201 International Dr\, Columbia\, MO\, 65202
END:VEVENT
BEGIN:VEVENT
DTSTART;TZID=America/Chicago:20260409T083000
DTEND;TZID=America/Chicago:20260409T103000
DTSTAMP:20260425T180823
CREATED:20260223T203727Z
LAST-MODIFIED:20260223T203727Z
UID:2234-1775723400-1775730600@enjoyfika.com
SUMMARY:Veterans United Papa
DESCRIPTION:
URL:https://enjoyfika.com/event/veterans-united-papa-38/2026/02/23/
LOCATION:Veterans United Papa
END:VEVENT
BEGIN:VEVENT
DTSTART;TZID=America/Chicago:20260410T083000
DTEND;TZID=America/Chicago:20260410T103000
DTSTAMP:20260425T180823
CREATED:20260223T203831Z
LAST-MODIFIED:20260223T203831Z
UID:2236-1775809800-1775817000@enjoyfika.com
SUMMARY:Veterans United Jake
DESCRIPTION:
URL:https://enjoyfika.com/event/veterans-united-jake-44/2026/02/23/
LOCATION:Veterans Uited Jake
END:VEVENT
BEGIN:VEVENT
DTSTART;TZID=America/Chicago:20260411T083000
DTEND;TZID=America/Chicago:20260411T123000
DTSTAMP:20260425T180823
CREATED:20260318T211337Z
LAST-MODIFIED:20260318T211337Z
UID:2309-1775896200-1775910600@enjoyfika.com
SUMMARY:American Outdoor Outlet 1 Yr Anniversary
DESCRIPTION:
URL:https://enjoyfika.com/event/american-outdoor-outlet-1-yr-anniversary/2026/03/18/
LOCATION:American Outdoor Brands\, 1800 N Route Z\, Columbia\, MO\, 65201
END:VEVENT
BEGIN:VEVENT
DTSTART;TZID=America/Chicago:20260415T070000
DTEND;TZID=America/Chicago:20260415T090000
DTSTAMP:20260425T180823
CREATED:20260223T203941Z
LAST-MODIFIED:20260223T203941Z
UID:2238-1776236400-1776243600@enjoyfika.com
SUMMARY:Flaktgroup
DESCRIPTION:
URL:https://enjoyfika.com/event/flaktgroup-2/2026/02/23/
LOCATION:Flaktgroup\, 1800 E Pointe Drive\, Columbia\, MO\, 65201\, United States
END:VEVENT
BEGIN:VEVENT
DTSTART;TZID=America/Chicago:20260416T080000
DTEND;TZID=America/Chicago:20260416T100000
DTSTAMP:20260425T180823
CREATED:20260318T205748Z
LAST-MODIFIED:20260318T205748Z
UID:2292-1776326400-1776333600@enjoyfika.com
SUMMARY:American Outdoor Brands
DESCRIPTION:
URL:https://enjoyfika.com/event/american-outdoor-brands-5/2026/03/18/
LOCATION:American Outdoor Brands\, 1800 N Route Z\, Columbia\, MO\, 65201
END:VEVENT
BEGIN:VEVENT
DTSTART;TZID=America/Chicago:20260417T090000
DTEND;TZID=America/Chicago:20260417T110000
DTSTAMP:20260425T180823
CREATED:20260309T210152Z
LAST-MODIFIED:20260309T210152Z
UID:2262-1776416400-1776423600@enjoyfika.com
SUMMARY:Bluebird Composting
DESCRIPTION:
URL:https://enjoyfika.com/event/bluebird-composting-2/2026/03/09/
LOCATION:Bluebird Composting\, 4280 HWY 763\, Columbia\, MO\, 65202\, United States
END:VEVENT
BEGIN:VEVENT
DTSTART;TZID=America/Chicago:20260419T090000
DTEND;TZID=America/Chicago:20260419T113000
DTSTAMP:20260425T180823
CREATED:20260419T011447Z
LAST-MODIFIED:20260419T011447Z
UID:2363-1776589200-1776598200@enjoyfika.com
SUMMARY:Strawberry Hill
DESCRIPTION:
URL:https://enjoyfika.com/event/strawberry-hill/2026/04/18/
LOCATION:Strawberry Hill Farms\, 3770 MO-163\, Columbia\, Missouri\, 65201
END:VEVENT
BEGIN:VEVENT
DTSTART;TZID=America/Chicago:20260420T070000
DTEND;TZID=America/Chicago:20260420T090000
DTSTAMP:20260425T180823
CREATED:20260413T195626Z
LAST-MODIFIED:20260413T195626Z
UID:2328-1776668400-1776675600@enjoyfika.com
SUMMARY:College Park Christian Preschool
DESCRIPTION:
URL:https://enjoyfika.com/event/college-park-christian-preschool/2026/04/13/
LOCATION:College Park Christian Preschool\, 1108 College Park Dr\, Columbia\, MO\, 65203
END:VEVENT
BEGIN:VEVENT
DTSTART;TZID=America/Chicago:20260421T073000
DTEND;TZID=America/Chicago:20260421T090000
DTSTAMP:20260425T180823
CREATED:20260408T174552Z
LAST-MODIFIED:20260408T174552Z
UID:2317-1776756600-1776762000@enjoyfika.com
SUMMARY:City of Columbia
DESCRIPTION:
URL:https://enjoyfika.com/event/city-of-columbia-6/2026/04/08/
LOCATION:City of Columbia\, 701 E Broadway\, Columbia\, MO\, 652014
END:VEVENT
BEGIN:VEVENT
DTSTART;TZID=America/Chicago:20260422T083000
DTEND;TZID=America/Chicago:20260422T103000
DTSTAMP:20260425T180823
CREATED:20260309T210343Z
LAST-MODIFIED:20260309T210343Z
UID:2264-1776846600-1776853800@enjoyfika.com
SUMMARY:Compass Health
DESCRIPTION:
URL:https://enjoyfika.com/event/compass-health/2026/03/09/
LOCATION:Compass Health\, 200 Portland St\, Columbia\, MO
END:VEVENT
BEGIN:VEVENT
DTSTART;TZID=America/Chicago:20260423T083000
DTEND;TZID=America/Chicago:20260423T103000
DTSTAMP:20260425T180823
CREATED:20260309T210528Z
LAST-MODIFIED:20260309T210528Z
UID:2269-1776933000-1776940200@enjoyfika.com
SUMMARY:Veterans United Papa
DESCRIPTION:
URL:https://enjoyfika.com/event/veterans-united-papa-39/2026/03/09/
LOCATION:Veterans United Papa
END:VEVENT
BEGIN:VEVENT
DTSTART;TZID=America/Chicago:20260424T083000
DTEND;TZID=America/Chicago:20260424T103000
DTSTAMP:20260425T180823
CREATED:20260309T210614Z
LAST-MODIFIED:20260309T210614Z
UID:2271-1777019400-1777026600@enjoyfika.com
SUMMARY:Veterans United Jake
DESCRIPTION:
URL:https://enjoyfika.com/event/veterans-united-jake-45/2026/03/09/
LOCATION:Veterans United Jake\, Columbia\, MO\, 65203\, United States
END:VEVENT
BEGIN:VEVENT
DTSTART;TZID=America/Chicago:20260425T080000
DTEND;TZID=America/Chicago:20260425T140000
DTSTAMP:20260425T180823
CREATED:20251202T023842Z
LAST-MODIFIED:20251202T023842Z
UID:2097-1777104000-1777125600@enjoyfika.com
SUMMARY:Float Your Boat - Food Bank
DESCRIPTION:
URL:https://enjoyfika.com/event/float-your-boat-food-bank/2025/12/01/
LOCATION:Bass Pro Shop Lake\, 3101 Bass Pro Drive\, Columbia\, MO\, 65202
END:VEVENT
BEGIN:VEVENT
DTSTART;TZID=America/Chicago:20260426T110000
DTEND;TZID=America/Chicago:20260426T130000
DTSTAMP:20260425T180823
CREATED:20260309T210423Z
LAST-MODIFIED:20260309T210423Z
UID:2267-1777201200-1777208400@enjoyfika.com
SUMMARY:Private Event
DESCRIPTION:
URL:https://enjoyfika.com/event/private-event-32/2026/03/09/
LOCATION:Missouri
END:VEVENT
BEGIN:VEVENT
DTSTART;TZID=America/Chicago:20260427T083000
DTEND;TZID=America/Chicago:20260427T103000
DTSTAMP:20260425T180823
CREATED:20260312T161101Z
LAST-MODIFIED:20260312T161101Z
UID:2286-1777278600-1777285800@enjoyfika.com
SUMMARY:Veteran United Echo/Foxtrot
DESCRIPTION:
URL:https://enjoyfika.com/event/veteran-united-echo-foxtrot/2026/03/12/
LOCATION:Veterans United Echo/Foxtrot\, Columbia\, MO\, 65203
END:VEVENT
BEGIN:VEVENT
DTSTART;TZID=America/Chicago:20260429T080000
DTEND;TZID=America/Chicago:20260429T090000
DTSTAMP:20260425T180823
CREATED:20260309T210702Z
LAST-MODIFIED:20260309T210702Z
UID:2273-1777449600-1777453200@enjoyfika.com
SUMMARY:Equipment Share
DESCRIPTION:
URL:https://enjoyfika.com/event/equipment-share-20/2026/03/09/
LOCATION:Equipment Share Corporate Office\, 2805 Falling Leaf Ct\, Columbia\, MO\, 65201
END:VEVENT
BEGIN:VEVENT
DTSTART;TZID=America/Chicago:20260429T093000
DTEND;TZID=America/Chicago:20260429T110000
DTSTAMP:20260425T180823
CREATED:20260309T210756Z
LAST-MODIFIED:20260309T210756Z
UID:2275-1777455000-1777460400@enjoyfika.com
SUMMARY:IDEXX
DESCRIPTION:
URL:https://enjoyfika.com/event/idexx-13/2026/03/09/
LOCATION:IDEXX\, 4011 Discovery Drive\, Columbia\, MO\, 65201\, United States
END:VEVENT
BEGIN:VEVENT
DTSTART;TZID=America/Chicago:20260501T083000
DTEND;TZID=America/Chicago:20260501T103000
DTSTAMP:20260425T180823
CREATED:20260417T132036Z
LAST-MODIFIED:20260417T132036Z
UID:2355-1777624200-1777631400@enjoyfika.com
SUMMARY:Southern Boone Primary
DESCRIPTION:
URL:https://enjoyfika.com/event/southern-boone-primary-2/2026/04/17/
LOCATION:Southern Boone Primary\, 809 Henry Clay Blvd\, Ashland\, MO
END:VEVENT
BEGIN:VEVENT
DTSTART;VALUE=DATE:20260502
DTEND;VALUE=DATE:20260503
DTSTAMP:20260425T180823
CREATED:20251202T023929Z
LAST-MODIFIED:20251202T023929Z
UID:2099-1777680000-1777766399@enjoyfika.com
SUMMARY:Midway Flea Market
DESCRIPTION:
URL:https://enjoyfika.com/event/midway-flea-market-2/2025/12/01/
LOCATION:Midway Antique Mall\, Hwy 40\, Columbia\, Missouri\, 65202
END:VEVENT
BEGIN:VEVENT
DTSTART;TZID=America/Chicago:20260503T110000
DTEND;TZID=America/Chicago:20260503T130000
DTSTAMP:20260425T180823
CREATED:20260408T175735Z
LAST-MODIFIED:20260408T175840Z
UID:2321-1777806000-1777813200@enjoyfika.com
SUMMARY:EXP The Walters Team at Bristol Ridge
DESCRIPTION:
URL:https://enjoyfika.com/event/bristol-ridge/2026/04/08/
LOCATION:2805 Easley Ridge Cicle\, 2805 Easley Ridge Circle\, Columbia\, MO\, 65201
END:VEVENT
BEGIN:VEVENT
DTSTART;TZID=America/Chicago:20260504T070000
DTEND;TZID=America/Chicago:20260504T083000
DTSTAMP:20260425T180823
CREATED:20260309T211023Z
LAST-MODIFIED:20260309T211023Z
UID:2279-1777878000-1777883400@enjoyfika.com
SUMMARY:Benton School
DESCRIPTION:
URL:https://enjoyfika.com/event/benton-school/2026/03/09/
LOCATION:Benton School\, 1410 Hinkson Ave\, Columbia\, MO
END:VEVENT
BEGIN:VEVENT
DTSTART;TZID=America/Chicago:20260504T090000
DTEND;TZID=America/Chicago:20260504T103000
DTSTAMP:20260425T180823
CREATED:20260408T180042Z
LAST-MODIFIED:20260408T180042Z
UID:2326-1777885200-1777890600@enjoyfika.com
SUMMARY:Veterans United X-Ray
DESCRIPTION:
URL:https://enjoyfika.com/event/veterans-united-x-ray-5/2026/04/08/
LOCATION:Veterans United Xray\, 3213 S Providence Rd\, Columbia\, MO\, 65203\, United States
END:VEVENT
BEGIN:VEVENT
DTSTART;TZID=America/Chicago:20260505T073000
DTEND;TZID=America/Chicago:20260505T090000
DTSTAMP:20260425T180823
CREATED:20260318T211038Z
LAST-MODIFIED:20260318T211038Z
UID:2304-1777966200-1777971600@enjoyfika.com
SUMMARY:Hallsville School - Teachers Appreciation
DESCRIPTION:
URL:https://enjoyfika.com/event/hallsville-school-teachers-appreciation/2026/03/18/
LOCATION:Hallsville School\, 421 MO-124 E\, Hallsville\, MO\, 65255
END:VEVENT
BEGIN:VEVENT
DTSTART;TZID=America/Chicago:20260506T073000
DTEND;TZID=America/Chicago:20260506T093000
DTSTAMP:20260425T180823
CREATED:20260417T130350Z
LAST-MODIFIED:20260417T130350Z
UID:2336-1778052600-1778059800@enjoyfika.com
SUMMARY:Cedar Ridge Elementary School
DESCRIPTION:
URL:https://enjoyfika.com/event/cedar-ridge-elementary-school/2026/04/17/
LOCATION:Cedar Ridge Elementary School\, 2345 Howell Mountain Dr\, Columbia\, MO\, 65201
END:VEVENT
BEGIN:VEVENT
DTSTART;TZID=America/Chicago:20260507T073000
DTEND;TZID=America/Chicago:20260507T083000
DTSTAMP:20260425T180823
CREATED:20260417T130546Z
LAST-MODIFIED:20260417T130546Z
UID:2339-1778139000-1778142600@enjoyfika.com
SUMMARY:Fairview Elementary School
DESCRIPTION:
URL:https://enjoyfika.com/event/fairview-elementary-school-3/2026/04/17/
LOCATION:Fairview Elementary School\, 909 S Fairview Rd\, Columbia\, MO\, 65203\, United States
END:VEVENT
BEGIN:VEVENT
DTSTART;TZID=America/Chicago:20260507T090000
DTEND;TZID=America/Chicago:20260507T103000
DTSTAMP:20260425T180823
CREATED:20260417T130711Z
LAST-MODIFIED:20260417T130719Z
UID:2341-1778144400-1778149800@enjoyfika.com
SUMMARY:Veterans United Papa
DESCRIPTION:
URL:https://enjoyfika.com/event/veterans-united-papap/2026/04/17/
LOCATION:Veterans United Papa
END:VEVENT
BEGIN:VEVENT
DTSTART;TZID=America/Chicago:20260508T083000
DTEND;TZID=America/Chicago:20260508T103000
DTSTAMP:20260425T180823
CREATED:20260417T130822Z
LAST-MODIFIED:20260417T130822Z
UID:2344-1778229000-1778236200@enjoyfika.com
SUMMARY:Veterans United Jake
DESCRIPTION:
URL:https://enjoyfika.com/event/veterans-united-jake-46/2026/04/17/
LOCATION:Veterans Uited Jake
END:VEVENT
BEGIN:VEVENT
DTSTART;TZID=America/Chicago:20260509T090000
DTEND;TZID=America/Chicago:20260509T130000
DTSTAMP:20260425T180823
CREATED:20260417T131343Z
LAST-MODIFIED:20260417T131343Z
UID:2346-1778317200-1778331600@enjoyfika.com
SUMMARY:Vendor Village at Cherry Hill Park
DESCRIPTION:
URL:https://enjoyfika.com/event/vendor-village-at-cherry-hill-park/2026/04/17/
LOCATION:Cherry Hill Park\, Jubilee ST\, Columbia\, MO
END:VEVENT
BEGIN:VEVENT
DTSTART;TZID=America/Chicago:20260514T080000
DTEND;TZID=America/Chicago:20260514T100000
DTSTAMP:20260425T180823
CREATED:20260318T205618Z
LAST-MODIFIED:20260318T205618Z
UID:2290-1778745600-1778752800@enjoyfika.com
SUMMARY:American Outdoor Brands
DESCRIPTION:
URL:https://enjoyfika.com/event/american-outdoor-brands-4/2026/03/18/
LOCATION:American Outdoor Brands\, 1800 N Route Z\, Columbia\, MO\, 65201
END:VEVENT
END:VCALENDAR