BEGIN:VCALENDAR
VERSION:2.0
PRODID:-//Fika Cup - ECPv6.15.20//NONSGML v1.0//EN
CALSCALE:GREGORIAN
METHOD:PUBLISH
X-WR-CALNAME:Fika Cup
X-ORIGINAL-URL:https://enjoyfika.com
X-WR-CALDESC:Events for Fika Cup
REFRESH-INTERVAL;VALUE=DURATION:PT1H
X-Robots-Tag:noindex
X-PUBLISHED-TTL:PT1H
BEGIN:VTIMEZONE
TZID:America/Chicago
BEGIN:DAYLIGHT
TZOFFSETFROM:-0600
TZOFFSETTO:-0500
TZNAME:CDT
DTSTART:20240310T080000
END:DAYLIGHT
BEGIN:STANDARD
TZOFFSETFROM:-0500
TZOFFSETTO:-0600
TZNAME:CST
DTSTART:20241103T070000
END:STANDARD
BEGIN:DAYLIGHT
TZOFFSETFROM:-0600
TZOFFSETTO:-0500
TZNAME:CDT
DTSTART:20250309T080000
END:DAYLIGHT
BEGIN:STANDARD
TZOFFSETFROM:-0500
TZOFFSETTO:-0600
TZNAME:CST
DTSTART:20251102T070000
END:STANDARD
BEGIN:DAYLIGHT
TZOFFSETFROM:-0600
TZOFFSETTO:-0500
TZNAME:CDT
DTSTART:20260308T080000
END:DAYLIGHT
BEGIN:STANDARD
TZOFFSETFROM:-0500
TZOFFSETTO:-0600
TZNAME:CST
DTSTART:20261101T070000
END:STANDARD
BEGIN:DAYLIGHT
TZOFFSETFROM:-0600
TZOFFSETTO:-0500
TZNAME:CDT
DTSTART:20270314T080000
END:DAYLIGHT
BEGIN:STANDARD
TZOFFSETFROM:-0500
TZOFFSETTO:-0600
TZNAME:CST
DTSTART:20271107T070000
END:STANDARD
END:VTIMEZONE
BEGIN:VEVENT
DTSTART;TZID=America/Chicago:20260217T090000
DTEND;TZID=America/Chicago:20260217T103000
DTSTAMP:20260425T212634
CREATED:20260127T031424Z
LAST-MODIFIED:20260127T031424Z
UID:2172-1771318800-1771324200@enjoyfika.com
SUMMARY:Private Event
DESCRIPTION:
URL:https://enjoyfika.com/event/private-event-31/2026/01/26/
LOCATION:MO
END:VEVENT
BEGIN:VEVENT
DTSTART;VALUE=DATE:20260214
DTEND;VALUE=DATE:20260215
DTSTAMP:20260425T212634
CREATED:20251202T023706Z
LAST-MODIFIED:20251202T023706Z
UID:2093-1771027200-1771113599@enjoyfika.com
SUMMARY:Homeschool Tournament
DESCRIPTION:
URL:https://enjoyfika.com/event/homeschool-tournament-2/2025/12/01/
LOCATION:Columbia Sports Fieldhouse\, 4251 Philips Farm Rd\, Columbia\, MO\, 65201
END:VEVENT
BEGIN:VEVENT
DTSTART;VALUE=DATE:20260213
DTEND;VALUE=DATE:20260214
DTSTAMP:20260425T212634
CREATED:20251202T023631Z
LAST-MODIFIED:20251202T023631Z
UID:2091-1770940800-1771027199@enjoyfika.com
SUMMARY:Homeschool Tournament
DESCRIPTION:
URL:https://enjoyfika.com/event/homeschool-tournament/2025/12/01/
LOCATION:Columbia Sports Fieldhouse\, 4251 Philips Farm Rd\, Columbia\, MO\, 65201
END:VEVENT
BEGIN:VEVENT
DTSTART;TZID=America/Chicago:20260212T083000
DTEND;TZID=America/Chicago:20260212T103000
DTSTAMP:20260425T212634
CREATED:20260106T201834Z
LAST-MODIFIED:20260106T201834Z
UID:2131-1770885000-1770892200@enjoyfika.com
SUMMARY:Veterans United Papa
DESCRIPTION:
URL:https://enjoyfika.com/event/veterans-united-papa-34/2026/01/06/
LOCATION:Veterans United Papa
END:VEVENT
BEGIN:VEVENT
DTSTART;TZID=America/Chicago:20260211T083000
DTEND;TZID=America/Chicago:20260211T103000
DTSTAMP:20260425T212634
CREATED:20260106T201745Z
LAST-MODIFIED:20260106T201745Z
UID:2129-1770798600-1770805800@enjoyfika.com
SUMMARY:Veterans United Jake
DESCRIPTION:
URL:https://enjoyfika.com/event/veterans-united-jake-40/2026/01/06/
LOCATION:Veterans United Jake\, Columbia\, MO\, 65203\, United States
END:VEVENT
BEGIN:VEVENT
DTSTART;TZID=America/Chicago:20260210T073000
DTEND;TZID=America/Chicago:20260210T093000
DTSTAMP:20260425T212634
CREATED:20260115T185432Z
LAST-MODIFIED:20260115T185432Z
UID:2152-1770708600-1770715800@enjoyfika.com
SUMMARY:City of Columbia
DESCRIPTION:
URL:https://enjoyfika.com/event/city-of-columbia-5/2026/01/15/
LOCATION:City of Columbia\, 701 E Broadway\, Columbia\, MO\, 652014
END:VEVENT
BEGIN:VEVENT
DTSTART;TZID=America/Chicago:20260209T090000
DTEND;TZID=America/Chicago:20260209T103000
DTSTAMP:20260425T212634
CREATED:20260127T030758Z
LAST-MODIFIED:20260127T030758Z
UID:2166-1770627600-1770633000@enjoyfika.com
SUMMARY:Love Columbia
DESCRIPTION:
URL:https://enjoyfika.com/event/love-columbia/2026/01/26/
LOCATION:Love Columbia\, 1209 E Walnut St\, Columbia\, MO\, 65201\, United States
END:VEVENT
BEGIN:VEVENT
DTSTART;TZID=America/Chicago:20260207T080000
DTEND;TZID=America/Chicago:20260207T100000
DTSTAMP:20260425T212634
CREATED:20260115T185758Z
LAST-MODIFIED:20260115T185758Z
UID:2160-1770451200-1770458400@enjoyfika.com
SUMMARY:COMO Rocks
DESCRIPTION:
URL:https://enjoyfika.com/event/como-rocks/2026/01/15/
LOCATION:MO
END:VEVENT
BEGIN:VEVENT
DTSTART;TZID=America/Chicago:20260204T073000
DTEND;TZID=America/Chicago:20260204T093000
DTSTAMP:20260425T212634
CREATED:20260127T030503Z
LAST-MODIFIED:20260127T030530Z
UID:2164-1770190200-1770197400@enjoyfika.com
SUMMARY:CenterPointe Hospital
DESCRIPTION:
URL:https://enjoyfika.com/event/centerpointe-hospital-2/2026/01/26/
LOCATION:CenterPointe of Columbia\, 1201 International Dr\, Columbia\, MO\, 65202
END:VEVENT
BEGIN:VEVENT
DTSTART;TZID=America/Chicago:20260203T090000
DTEND;TZID=America/Chicago:20260203T110000
DTSTAMP:20260425T212634
CREATED:20260106T201931Z
LAST-MODIFIED:20260106T201931Z
UID:2133-1770109200-1770116400@enjoyfika.com
SUMMARY:Private event
DESCRIPTION:
URL:https://enjoyfika.com/event/private-event-29/2026/01/06/
LOCATION:MO
END:VEVENT
BEGIN:VEVENT
DTSTART;TZID=America/Chicago:20260130T083000
DTEND;TZID=America/Chicago:20260130T103000
DTSTAMP:20260425T212634
CREATED:20251202T023436Z
LAST-MODIFIED:20251202T023436Z
UID:2087-1769761800-1769769000@enjoyfika.com
SUMMARY:Veterans United Jake
DESCRIPTION:
URL:https://enjoyfika.com/event/veterans-united-jake-38/2025/12/01/
LOCATION:Veterans United Jake\, Columbia\, MO\, 65203\, United States
END:VEVENT
BEGIN:VEVENT
DTSTART;TZID=America/Chicago:20260129T083000
DTEND;TZID=America/Chicago:20260129T103000
DTSTAMP:20260425T212634
CREATED:20251202T023344Z
LAST-MODIFIED:20251202T023344Z
UID:2085-1769675400-1769682600@enjoyfika.com
SUMMARY:Veterans United Papa
DESCRIPTION:
URL:https://enjoyfika.com/event/veterans-united-papa-33/2025/12/01/
LOCATION:Veterans United Papa
END:VEVENT
BEGIN:VEVENT
DTSTART;TZID=America/Chicago:20260128T093000
DTEND;TZID=America/Chicago:20260128T110000
DTSTAMP:20260425T212634
CREATED:20251202T023210Z
LAST-MODIFIED:20251202T023210Z
UID:2081-1769592600-1769598000@enjoyfika.com
SUMMARY:IDEXX
DESCRIPTION:
URL:https://enjoyfika.com/event/idexx-10/2025/12/01/
LOCATION:IDEXX\, 4011 Discovery Drive\, Columbia\, MO\, 65201\, United States
END:VEVENT
BEGIN:VEVENT
DTSTART;TZID=America/Chicago:20260128T080000
DTEND;TZID=America/Chicago:20260128T090000
DTSTAMP:20260425T212634
CREATED:20260106T202119Z
LAST-MODIFIED:20260106T202119Z
UID:2137-1769587200-1769590800@enjoyfika.com
SUMMARY:Equipment Share
DESCRIPTION:
URL:https://enjoyfika.com/event/equipment-share-17/2026/01/06/
LOCATION:Equipment Share Corporate Office\, 2805 Falling Leaf Ct\, Columbia\, MO\, 65201
END:VEVENT
BEGIN:VEVENT
DTSTART;TZID=America/Chicago:20260124T083000
DTEND;TZID=America/Chicago:20260124T103000
DTSTAMP:20260425T212634
CREATED:20260115T185244Z
LAST-MODIFIED:20260115T185244Z
UID:2150-1769243400-1769250600@enjoyfika.com
SUMMARY:Soap Box Derby Pack 700
DESCRIPTION:
URL:https://enjoyfika.com/event/soap-box-derby-pack-700/2026/01/15/
LOCATION:Russell Blvd School\, 1800 W Rollins Rd\, Columbia\, MO\, 65203
END:VEVENT
BEGIN:VEVENT
DTSTART;TZID=America/Chicago:20260123T090000
DTEND;TZID=America/Chicago:20260123T103000
DTSTAMP:20260425T212634
CREATED:20260106T201446Z
LAST-MODIFIED:20260106T201446Z
UID:2124-1769158800-1769164200@enjoyfika.com
SUMMARY:Williams Keepers
DESCRIPTION:
URL:https://enjoyfika.com/event/williams-keepers/2026/01/06/
LOCATION:Williams Keepers LLC\, 2005 W Broadway\, Columbia\, 65203\, United States
END:VEVENT
BEGIN:VEVENT
DTSTART;TZID=America/Chicago:20260122T073000
DTEND;TZID=America/Chicago:20260122T093000
DTSTAMP:20260425T212634
CREATED:20260115T185116Z
LAST-MODIFIED:20260115T185116Z
UID:2148-1769067000-1769074200@enjoyfika.com
SUMMARY:MFA Oil
DESCRIPTION:
URL:https://enjoyfika.com/event/mfa-oil-7/2026/01/15/
LOCATION:MFA Oil\, Ray Young Drive\, Columbia\, Missouri\, 65201
END:VEVENT
BEGIN:VEVENT
DTSTART;TZID=America/Chicago:20260121T080000
DTEND;TZID=America/Chicago:20260121T100000
DTSTAMP:20260425T212634
CREATED:20260115T185011Z
LAST-MODIFIED:20260115T185011Z
UID:2146-1768982400-1768989600@enjoyfika.com
SUMMARY:American Outdoor Brands
DESCRIPTION:
URL:https://enjoyfika.com/event/american-outdoor-brands/2026/01/15/
LOCATION:American Outdoor Brands\, 1800 N Route Z\, Columbia\, MO\, 65201
END:VEVENT
BEGIN:VEVENT
DTSTART;TZID=America/Chicago:20260120T080000
DTEND;TZID=America/Chicago:20260120T093000
DTSTAMP:20260425T212634
CREATED:20260106T201328Z
LAST-MODIFIED:20260106T201328Z
UID:2122-1768896000-1768901400@enjoyfika.com
SUMMARY:Bernadette Square
DESCRIPTION:
URL:https://enjoyfika.com/event/bernadette-square-4/2026/01/06/
LOCATION:Bernadette Square\, 2503 Bernadette Drive\, Columbia\, MO\, 65203
END:VEVENT
BEGIN:VEVENT
DTSTART;TZID=America/Chicago:20260116T083000
DTEND;TZID=America/Chicago:20260116T103000
DTSTAMP:20260425T212634
CREATED:20251202T023518Z
LAST-MODIFIED:20251202T023518Z
UID:2089-1768552200-1768559400@enjoyfika.com
SUMMARY:Veterans United Jake
DESCRIPTION:
URL:https://enjoyfika.com/event/veterans-united-jake-39/2025/12/01/
LOCATION:Veterans United Jake\, Columbia\, MO\, 65203\, United States
END:VEVENT
BEGIN:VEVENT
DTSTART;TZID=America/Chicago:20260115T083000
DTEND;TZID=America/Chicago:20260115T103000
DTSTAMP:20260425T212634
CREATED:20251202T023132Z
LAST-MODIFIED:20251202T023132Z
UID:2079-1768465800-1768473000@enjoyfika.com
SUMMARY:Veterans United Papa
DESCRIPTION:
URL:https://enjoyfika.com/event/veterans-united-papa-32/2025/12/01/
LOCATION:Veterans United Papa
END:VEVENT
BEGIN:VEVENT
DTSTART;TZID=America/Chicago:20260113T083000
DTEND;TZID=America/Chicago:20260113T103000
DTSTAMP:20260425T212634
CREATED:20260106T201232Z
LAST-MODIFIED:20260106T201232Z
UID:2120-1768293000-1768300200@enjoyfika.com
SUMMARY:Veterans United Whiskey
DESCRIPTION:
URL:https://enjoyfika.com/event/veterans-united-whiskey-4/2026/01/06/
LOCATION:Veterans United Whiskey\, 3500 Buttonwood Dr\, Columbia\, MO\, 65201
END:VEVENT
BEGIN:VEVENT
DTSTART;TZID=America/Chicago:20260108T073000
DTEND;TZID=America/Chicago:20260108T093000
DTSTAMP:20260425T212634
CREATED:20260105T161033Z
LAST-MODIFIED:20260105T161033Z
UID:2118-1767857400-1767864600@enjoyfika.com
SUMMARY:City of Columbia
DESCRIPTION:
URL:https://enjoyfika.com/event/city-of-columbia-4/2026/01/05/
LOCATION:City of Columbia\, 701 E Broadway\, Columbia\, MO\, 652014
END:VEVENT
BEGIN:VEVENT
DTSTART;TZID=America/Chicago:20260107T080000
DTEND;TZID=America/Chicago:20260107T100000
DTSTAMP:20260425T212634
CREATED:20251202T023301Z
LAST-MODIFIED:20251202T023301Z
UID:2083-1767772800-1767780000@enjoyfika.com
SUMMARY:CenterPointe of Columbia
DESCRIPTION:
URL:https://enjoyfika.com/event/centerpointe-of-columbia-13/2025/12/01/
LOCATION:CenterPointe of Columbia\, 1201 International Dr\, Columbia\, MO\, 65202
END:VEVENT
BEGIN:VEVENT
DTSTART;TZID=America/Chicago:20260102T083000
DTEND;TZID=America/Chicago:20260102T103000
DTSTAMP:20260425T212634
CREATED:20251202T023044Z
LAST-MODIFIED:20251202T023044Z
UID:2077-1767342600-1767349800@enjoyfika.com
SUMMARY:Veterans United Jake
DESCRIPTION:
URL:https://enjoyfika.com/event/veterans-united-jake-37/2025/12/01/
LOCATION:Veterans United Jake\, Columbia\, MO\, 65203\, United States
END:VEVENT
BEGIN:VEVENT
DTSTART;TZID=America/Chicago:20251219T083000
DTEND;TZID=America/Chicago:20251219T103000
DTSTAMP:20260425T212634
CREATED:20251006T021837Z
LAST-MODIFIED:20251006T021837Z
UID:2015-1766133000-1766140200@enjoyfika.com
SUMMARY:Veterans United Jake
DESCRIPTION:
URL:https://enjoyfika.com/event/veterans-united-jake-35/2025/10/05/
LOCATION:Veterans United Jake\, Columbia\, MO\, 65203\, United States
END:VEVENT
BEGIN:VEVENT
DTSTART;TZID=America/Chicago:20251218T083000
DTEND;TZID=America/Chicago:20251218T103000
DTSTAMP:20260425T212634
CREATED:20251006T021751Z
LAST-MODIFIED:20251006T021751Z
UID:2013-1766046600-1766053800@enjoyfika.com
SUMMARY:Veterans United Papa
DESCRIPTION:
URL:https://enjoyfika.com/event/veterans-united-papa-31/2025/10/05/
LOCATION:Veterans United Papa
END:VEVENT
BEGIN:VEVENT
DTSTART;TZID=America/Chicago:20251217T093000
DTEND;TZID=America/Chicago:20251217T110000
DTSTAMP:20260425T212634
CREATED:20251006T020641Z
LAST-MODIFIED:20251006T020641Z
UID:1992-1765963800-1765969200@enjoyfika.com
SUMMARY:IDEXX
DESCRIPTION:
URL:https://enjoyfika.com/event/idexx-9/2025/10/05/
LOCATION:IDEXX\, 4011 Discovery Drive\, Columbia\, MO\, 65201\, United States
END:VEVENT
BEGIN:VEVENT
DTSTART;VALUE=DATE:20251213
DTEND;VALUE=DATE:20251214
DTSTAMP:20260425T212634
CREATED:20251006T020542Z
LAST-MODIFIED:20251006T020542Z
UID:1990-1765584000-1765670399@enjoyfika.com
SUMMARY:Private Event
DESCRIPTION:
URL:https://enjoyfika.com/event/private-event-26/2025/10/05/
LOCATION:MO
END:VEVENT
BEGIN:VEVENT
DTSTART;VALUE=DATE:20251212
DTEND;VALUE=DATE:20251213
DTSTAMP:20260425T212634
CREATED:20251006T020520Z
LAST-MODIFIED:20251006T020520Z
UID:1988-1765497600-1765583999@enjoyfika.com
SUMMARY:Private Event
DESCRIPTION:
URL:https://enjoyfika.com/event/private-event-25/2025/10/05/
LOCATION:MO
END:VEVENT
END:VCALENDAR