BEGIN:VCALENDAR
VERSION:2.0
PRODID:-//Fika Cup - ECPv6.15.20//NONSGML v1.0//EN
CALSCALE:GREGORIAN
METHOD:PUBLISH
X-WR-CALNAME:Fika Cup
X-ORIGINAL-URL:https://enjoyfika.com
X-WR-CALDESC:Events for Fika Cup
REFRESH-INTERVAL;VALUE=DURATION:PT1H
X-Robots-Tag:noindex
X-PUBLISHED-TTL:PT1H
BEGIN:VTIMEZONE
TZID:America/Chicago
BEGIN:DAYLIGHT
TZOFFSETFROM:-0600
TZOFFSETTO:-0500
TZNAME:CDT
DTSTART:20250309T080000
END:DAYLIGHT
BEGIN:STANDARD
TZOFFSETFROM:-0500
TZOFFSETTO:-0600
TZNAME:CST
DTSTART:20251102T070000
END:STANDARD
BEGIN:DAYLIGHT
TZOFFSETFROM:-0600
TZOFFSETTO:-0500
TZNAME:CDT
DTSTART:20260308T080000
END:DAYLIGHT
BEGIN:STANDARD
TZOFFSETFROM:-0500
TZOFFSETTO:-0600
TZNAME:CST
DTSTART:20261101T070000
END:STANDARD
BEGIN:DAYLIGHT
TZOFFSETFROM:-0600
TZOFFSETTO:-0500
TZNAME:CDT
DTSTART:20270314T080000
END:DAYLIGHT
BEGIN:STANDARD
TZOFFSETFROM:-0500
TZOFFSETTO:-0600
TZNAME:CST
DTSTART:20271107T070000
END:STANDARD
END:VTIMEZONE
BEGIN:VEVENT
DTSTART;TZID=America/Chicago:20260411T083000
DTEND;TZID=America/Chicago:20260411T123000
DTSTAMP:20260425T224813
CREATED:20260318T211337Z
LAST-MODIFIED:20260318T211337Z
UID:2309-1775896200-1775910600@enjoyfika.com
SUMMARY:American Outdoor Outlet 1 Yr Anniversary
DESCRIPTION:
URL:https://enjoyfika.com/event/american-outdoor-outlet-1-yr-anniversary/2026/03/18/
LOCATION:American Outdoor Brands\, 1800 N Route Z\, Columbia\, MO\, 65201
END:VEVENT
BEGIN:VEVENT
DTSTART;TZID=America/Chicago:20260410T083000
DTEND;TZID=America/Chicago:20260410T103000
DTSTAMP:20260425T224813
CREATED:20260223T203831Z
LAST-MODIFIED:20260223T203831Z
UID:2236-1775809800-1775817000@enjoyfika.com
SUMMARY:Veterans United Jake
DESCRIPTION:
URL:https://enjoyfika.com/event/veterans-united-jake-44/2026/02/23/
LOCATION:Veterans Uited Jake
END:VEVENT
BEGIN:VEVENT
DTSTART;TZID=America/Chicago:20260409T083000
DTEND;TZID=America/Chicago:20260409T103000
DTSTAMP:20260425T224813
CREATED:20260223T203727Z
LAST-MODIFIED:20260223T203727Z
UID:2234-1775723400-1775730600@enjoyfika.com
SUMMARY:Veterans United Papa
DESCRIPTION:
URL:https://enjoyfika.com/event/veterans-united-papa-38/2026/02/23/
LOCATION:Veterans United Papa
END:VEVENT
BEGIN:VEVENT
DTSTART;TZID=America/Chicago:20260408T080000
DTEND;TZID=America/Chicago:20260408T100000
DTSTAMP:20260425T224813
CREATED:20260318T211225Z
LAST-MODIFIED:20260318T211225Z
UID:2307-1775635200-1775642400@enjoyfika.com
SUMMARY:CenterPointe of Columbia
DESCRIPTION:
URL:https://enjoyfika.com/event/centerpointe-of-columbia-14/2026/03/18/
LOCATION:CenterPointe of Columbia\, 1201 International Dr\, Columbia\, MO\, 65202
END:VEVENT
BEGIN:VEVENT
DTSTART;TZID=America/Chicago:20260327T083000
DTEND;TZID=America/Chicago:20260327T103000
DTSTAMP:20260425T224813
CREATED:20260223T203415Z
LAST-MODIFIED:20260223T203415Z
UID:2230-1774600200-1774607400@enjoyfika.com
SUMMARY:Veterans United Jake
DESCRIPTION:
URL:https://enjoyfika.com/event/veterans-united-jake-43/2026/02/23/
LOCATION:Veterans Uited Jake
END:VEVENT
BEGIN:VEVENT
DTSTART;TZID=America/Chicago:20260326T083000
DTEND;TZID=America/Chicago:20260326T103000
DTSTAMP:20260425T224813
CREATED:20260223T203155Z
LAST-MODIFIED:20260223T203155Z
UID:2226-1774513800-1774521000@enjoyfika.com
SUMMARY:Veterans United Papa
DESCRIPTION:
URL:https://enjoyfika.com/event/veterans-united-papa-37/2026/02/23/
LOCATION:Veterans United Papa
END:VEVENT
BEGIN:VEVENT
DTSTART;TZID=America/Chicago:20260325T093000
DTEND;TZID=America/Chicago:20260325T110000
DTSTAMP:20260425T224813
CREATED:20260127T031920Z
LAST-MODIFIED:20260127T031920Z
UID:2177-1774431000-1774436400@enjoyfika.com
SUMMARY:IDEXX
DESCRIPTION:
URL:https://enjoyfika.com/event/idexx-12/2026/01/26/
LOCATION:IDEXX\, 4011 Discovery Drive\, Columbia\, MO\, 65201\, United States
END:VEVENT
BEGIN:VEVENT
DTSTART;TZID=America/Chicago:20260325T080000
DTEND;TZID=America/Chicago:20260325T090000
DTSTAMP:20260425T224813
CREATED:20260223T203042Z
LAST-MODIFIED:20260223T203042Z
UID:2224-1774425600-1774429200@enjoyfika.com
SUMMARY:Equipment Share
DESCRIPTION:
URL:https://enjoyfika.com/event/equipment-share-19/2026/02/23/
LOCATION:Equipment Share Corporate Office\, 2805 Falling Leaf Ct\, Columbia\, MO\, 65201
END:VEVENT
BEGIN:VEVENT
DTSTART;TZID=America/Chicago:20260324T080000
DTEND;TZID=America/Chicago:20260324T100000
DTSTAMP:20260425T224813
CREATED:20260309T205700Z
LAST-MODIFIED:20260309T205700Z
UID:2259-1774339200-1774346400@enjoyfika.com
SUMMARY:American Outdoor Brands
DESCRIPTION:
URL:https://enjoyfika.com/event/american-outdoor-brands-3/2026/03/09/
LOCATION:American Outdoor Brands\, 1800 N Route Z\, Columbia\, MO\, 65201
END:VEVENT
BEGIN:VEVENT
DTSTART;TZID=America/Chicago:20260323T083000
DTEND;TZID=America/Chicago:20260323T103000
DTSTAMP:20260425T224813
CREATED:20260223T202924Z
LAST-MODIFIED:20260309T205301Z
UID:2221-1774254600-1774261800@enjoyfika.com
SUMMARY:Veterans United Echo/Foxtrot
DESCRIPTION:
URL:https://enjoyfika.com/event/veterans-united-whiskey-5/2026/02/23/
LOCATION:Veterans United Echo/Foxtrot\, Columbia\, MO\, 65203
END:VEVENT
BEGIN:VEVENT
DTSTART;TZID=America/Chicago:20260320T090000
DTEND;TZID=America/Chicago:20260320T110000
DTSTAMP:20260425T224813
CREATED:20260309T205505Z
LAST-MODIFIED:20260309T205505Z
UID:2256-1773997200-1774004400@enjoyfika.com
SUMMARY:Bluebird Composting
DESCRIPTION:
URL:https://enjoyfika.com/event/bluebird-composting/2026/03/09/
LOCATION:Bluebird Composting\, 4280 HWY 763\, Columbia\, MO\, 65202\, United States
END:VEVENT
BEGIN:VEVENT
DTSTART;TZID=America/Chicago:20260317T083000
DTEND;TZID=America/Chicago:20260317T103000
DTSTAMP:20260425T224813
CREATED:20260312T160738Z
LAST-MODIFIED:20260312T160738Z
UID:2284-1773736200-1773743400@enjoyfika.com
SUMMARY:Boone County Family Resourses
DESCRIPTION:
URL:https://enjoyfika.com/event/boone-county-family-resourses/2026/03/12/
LOCATION:Boone County Family Resources\, 2700 W Ash St\, Columbia\, MO\, 65203
END:VEVENT
BEGIN:VEVENT
DTSTART;TZID=America/Chicago:20260314T120000
DTEND;TZID=America/Chicago:20260314T150000
DTSTAMP:20260425T224813
CREATED:20260309T205205Z
LAST-MODIFIED:20260309T205205Z
UID:2252-1773489600-1773500400@enjoyfika.com
SUMMARY:Pi Day at Macadoodles
DESCRIPTION:
URL:https://enjoyfika.com/event/pi-day-at-macadoodles/2026/03/09/
LOCATION:Macadoodles\, 455 Green Meadows Rd\, Columbia\, MO\, 65201\, United States
END:VEVENT
BEGIN:VEVENT
DTSTART;TZID=America/Chicago:20260313T080000
DTEND;TZID=America/Chicago:20260313T100000
DTSTAMP:20260425T224813
CREATED:20260127T032103Z
LAST-MODIFIED:20260127T032103Z
UID:2181-1773388800-1773396000@enjoyfika.com
SUMMARY:Veterans United Jake
DESCRIPTION:
URL:https://enjoyfika.com/event/veterans-united-jake-42/2026/01/26/
LOCATION:Veterans Uited Jake
END:VEVENT
BEGIN:VEVENT
DTSTART;TZID=America/Chicago:20260312T080000
DTEND;TZID=America/Chicago:20260312T100000
DTSTAMP:20260425T224813
CREATED:20260127T031834Z
LAST-MODIFIED:20260127T031834Z
UID:2175-1773302400-1773309600@enjoyfika.com
SUMMARY:Veterans United Papa
DESCRIPTION:
URL:https://enjoyfika.com/event/veterans-united-papa-36/2026/01/26/
LOCATION:Veterans United Papa
END:VEVENT
BEGIN:VEVENT
DTSTART;TZID=America/Chicago:20260310T083000
DTEND;TZID=America/Chicago:20260310T103000
DTSTAMP:20260425T224813
CREATED:20260309T202649Z
LAST-MODIFIED:20260309T202649Z
UID:2250-1773131400-1773138600@enjoyfika.com
SUMMARY:Veterans United X-Ray
DESCRIPTION:
URL:https://enjoyfika.com/event/veterans-united-x-ray-4/2026/03/09/
LOCATION:Veterans United Xray\, 3213 S Providence Rd\, Columbia\, MO\, 65203\, United States
END:VEVENT
BEGIN:VEVENT
DTSTART;TZID=America/Chicago:20260305T090000
DTEND;TZID=America/Chicago:20260305T113000
DTSTAMP:20260425T224813
CREATED:20260127T031741Z
LAST-MODIFIED:20260127T031741Z
UID:2174-1772701200-1772710200@enjoyfika.com
SUMMARY:Chi Omega
DESCRIPTION:
URL:https://enjoyfika.com/event/chi-omega-2/2026/01/26/
LOCATION:Chi Omega\, 406 Burnam\, Columbia\, MO\, 65201
END:VEVENT
BEGIN:VEVENT
DTSTART;TZID=America/Chicago:20260304T073000
DTEND;TZID=America/Chicago:20260304T093000
DTSTAMP:20260425T224813
CREATED:20260127T032209Z
LAST-MODIFIED:20260127T032209Z
UID:2185-1772609400-1772616600@enjoyfika.com
SUMMARY:CenterPointe Hospital
DESCRIPTION:
URL:https://enjoyfika.com/event/centerpointe-hospital-3/2026/01/26/
LOCATION:CenterPointe of Columbia\, 1201 International Dr\, Columbia\, MO\, 65202
END:VEVENT
BEGIN:VEVENT
DTSTART;TZID=America/Chicago:20260303T070000
DTEND;TZID=America/Chicago:20260303T093000
DTSTAMP:20260425T224813
CREATED:20260223T201452Z
LAST-MODIFIED:20260223T201452Z
UID:2216-1772521200-1772530200@enjoyfika.com
SUMMARY:Flaktgroup
DESCRIPTION:
URL:https://enjoyfika.com/event/flaktgroup/2026/02/23/
LOCATION:Flaktgroup\, 1800 E Pointe Drive\, Columbia\, MO\, 65201\, United States
END:VEVENT
BEGIN:VEVENT
DTSTART;TZID=America/Chicago:20260228T103000
DTEND;TZID=America/Chicago:20260228T110000
DTSTAMP:20260425T224813
CREATED:20260115T185713Z
LAST-MODIFIED:20260115T185725Z
UID:2158-1772274600-1772276400@enjoyfika.com
SUMMARY:Private event
DESCRIPTION:
URL:https://enjoyfika.com/event/private-event-30/2026/01/15/
LOCATION:MO
END:VEVENT
BEGIN:VEVENT
DTSTART;TZID=America/Chicago:20260227T083000
DTEND;TZID=America/Chicago:20260227T103000
DTSTAMP:20260425T224813
CREATED:20260106T202250Z
LAST-MODIFIED:20260106T202250Z
UID:2141-1772181000-1772188200@enjoyfika.com
SUMMARY:Veterans United Jake
DESCRIPTION:
URL:https://enjoyfika.com/event/veterans-united-jake-41/2026/01/06/
LOCATION:Veterans United Jake\, Columbia\, MO\, 65203\, United States
END:VEVENT
BEGIN:VEVENT
DTSTART;TZID=America/Chicago:20260226T083000
DTEND;TZID=America/Chicago:20260226T103000
DTSTAMP:20260425T224813
CREATED:20260106T202209Z
LAST-MODIFIED:20260106T202209Z
UID:2139-1772094600-1772101800@enjoyfika.com
SUMMARY:Veterans United Papa
DESCRIPTION:
URL:https://enjoyfika.com/event/veterans-united-papa-35/2026/01/06/
LOCATION:Veterans United Papa
END:VEVENT
BEGIN:VEVENT
DTSTART;TZID=America/Chicago:20260225T093000
DTEND;TZID=America/Chicago:20260225T110000
DTSTAMP:20260425T224813
CREATED:20251202T023744Z
LAST-MODIFIED:20251202T023744Z
UID:2095-1772011800-1772017200@enjoyfika.com
SUMMARY:IDEXX
DESCRIPTION:
URL:https://enjoyfika.com/event/idexx-11/2025/12/01/
LOCATION:IDEXX\, 4011 Discovery Drive\, Columbia\, MO\, 65201\, United States
END:VEVENT
BEGIN:VEVENT
DTSTART;TZID=America/Chicago:20260225T080000
DTEND;TZID=America/Chicago:20260225T090000
DTSTAMP:20260425T224813
CREATED:20260223T200954Z
LAST-MODIFIED:20260223T200954Z
UID:2214-1772006400-1772010000@enjoyfika.com
SUMMARY:Equipment Share
DESCRIPTION:
URL:https://enjoyfika.com/event/equipment-share-18/2026/02/23/
LOCATION:Equipment Share Corporate Office\, 2805 Falling Leaf Ct\, Columbia\, MO\, 65201
END:VEVENT
BEGIN:VEVENT
DTSTART;TZID=America/Chicago:20260224T080000
DTEND;TZID=America/Chicago:20260224T093000
DTSTAMP:20260425T224813
CREATED:20260106T202017Z
LAST-MODIFIED:20260127T031303Z
UID:2135-1771920000-1771925400@enjoyfika.com
SUMMARY:Bernadette Square
DESCRIPTION:
URL:https://enjoyfika.com/event/bernadette-square-5/2026/01/06/
LOCATION:Bernadette Square\, 2503 Bernadette Drive\, Columbia\, MO\, 65203
END:VEVENT
BEGIN:VEVENT
DTSTART;TZID=America/Chicago:20260221T080000
DTEND;TZID=America/Chicago:20260221T130000
DTSTAMP:20260425T224813
CREATED:20260106T201620Z
LAST-MODIFIED:20260106T201620Z
UID:2126-1771660800-1771678800@enjoyfika.com
SUMMARY:Show Choir Competition Rock Bridge
DESCRIPTION:
URL:https://enjoyfika.com/event/show-choir-competition-rock-bridge/2026/01/06/
LOCATION:Rock\, Providence Rd\, Columbia\, MO
END:VEVENT
BEGIN:VEVENT
DTSTART;TZID=America/Chicago:20260220T090000
DTEND;TZID=America/Chicago:20260220T113000
DTSTAMP:20260425T224813
CREATED:20260127T031214Z
LAST-MODIFIED:20260127T031214Z
UID:2169-1771578000-1771587000@enjoyfika.com
SUMMARY:Southern Boone Middle School
DESCRIPTION:
URL:https://enjoyfika.com/event/southern-boone-middle-school/2026/01/26/
LOCATION:Southern Boone Middle School\, 303 N Main St\, Ashland\, MO\, 65010
END:VEVENT
BEGIN:VEVENT
DTSTART;TZID=America/Chicago:20260219T073000
DTEND;TZID=America/Chicago:20260219T093000
DTSTAMP:20260425T224813
CREATED:20260115T185611Z
LAST-MODIFIED:20260115T185611Z
UID:2156-1771486200-1771493400@enjoyfika.com
SUMMARY:MFA Oil
DESCRIPTION:
URL:https://enjoyfika.com/event/mfa-oil-8/2026/01/15/
LOCATION:MFA Oil\, Ray Young Drive\, Columbia\, Missouri\, 65201
END:VEVENT
BEGIN:VEVENT
DTSTART;TZID=America/Chicago:20260218T080000
DTEND;TZID=America/Chicago:20260218T100000
DTSTAMP:20260425T224813
CREATED:20260115T185520Z
LAST-MODIFIED:20260115T185520Z
UID:2154-1771401600-1771408800@enjoyfika.com
SUMMARY:American Outdoor Brands
DESCRIPTION:
URL:https://enjoyfika.com/event/american-outdoor-brands-2/2026/01/15/
LOCATION:American Outdoor Brands\, 1800 N Route Z\, Columbia\, MO\, 65201
END:VEVENT
BEGIN:VEVENT
DTSTART;TZID=America/Chicago:20260217T090000
DTEND;TZID=America/Chicago:20260217T103000
DTSTAMP:20260425T224813
CREATED:20260127T031424Z
LAST-MODIFIED:20260127T031424Z
UID:2172-1771318800-1771324200@enjoyfika.com
SUMMARY:Private Event
DESCRIPTION:
URL:https://enjoyfika.com/event/private-event-31/2026/01/26/
LOCATION:MO
END:VEVENT
END:VCALENDAR